BEGIN:VCALENDAR
VERSION:2.0
PRODID:-//Kings Lynn Cycling Club - ECPv6.2.8//NONSGML v1.0//EN
CALSCALE:GREGORIAN
METHOD:PUBLISH
X-WR-CALNAME:Kings Lynn Cycling Club
X-ORIGINAL-URL:http://www.kingslynncyclingclub.co.uk
X-WR-CALDESC:Events for Kings Lynn Cycling Club
REFRESH-INTERVAL;VALUE=DURATION:PT1H
X-Robots-Tag:noindex
X-PUBLISHED-TTL:PT1H
BEGIN:VTIMEZONE
TZID:UTC
BEGIN:STANDARD
TZOFFSETFROM:+0000
TZOFFSETTO:+0000
TZNAME:UTC
DTSTART:20170101T000000
END:STANDARD
END:VTIMEZONE
BEGIN:VEVENT
DTSTART;TZID=UTC:20171203T123000
DTEND;TZID=UTC:20171203T150000
DTSTAMP:20260423T120505
CREATED:20171029T132254Z
LAST-MODIFIED:20171029T132254Z
UID:1235-1512304200-1512313200@www.kingslynncyclingclub.co.uk
SUMMARY:KLCC Christmas Social and Presentation Event
DESCRIPTION:
URL:http://www.kingslynncyclingclub.co.uk/event/klcc-christmas-social-and-presentation-event/
LOCATION:King’s Lynn Masonic Centre\, Hamburg Way\, King's Lynn\, PE30 2ND\, United Kingdom
CATEGORIES:Administration
GEO:52.7696275;0.4184186
X-APPLE-STRUCTURED-LOCATION;VALUE=URI;X-ADDRESS=King’s Lynn Masonic Centre Hamburg Way King's Lynn PE30 2ND United Kingdom;X-APPLE-RADIUS=500;X-TITLE=Hamburg Way:geo:0.4184186,52.7696275
END:VEVENT
END:VCALENDAR