BEGIN:VCALENDAR
VERSION:2.0
PRODID:-//Kings Lynn Cycling Club - ECPv6.2.8//NONSGML v1.0//EN
CALSCALE:GREGORIAN
METHOD:PUBLISH
X-ORIGINAL-URL:http://www.kingslynncyclingclub.co.uk
X-WR-CALDESC:Events for Kings Lynn Cycling Club
REFRESH-INTERVAL;VALUE=DURATION:PT1H
X-Robots-Tag:noindex
X-PUBLISHED-TTL:PT1H
BEGIN:VTIMEZONE
TZID:UTC
BEGIN:STANDARD
TZOFFSETFROM:+0000
TZOFFSETTO:+0000
TZNAME:UTC
DTSTART:20170101T000000
END:STANDARD
END:VTIMEZONE
BEGIN:VEVENT
DTSTART;TZID=UTC:20171121T180000
DTEND;TZID=UTC:20171121T190000
DTSTAMP:20260420T011429
CREATED:20171029T130820Z
LAST-MODIFIED:20171029T130820Z
UID:1230-1511287200-1511290800@www.kingslynncyclingclub.co.uk
SUMMARY:Go Ride Session
DESCRIPTION:
URL:http://www.kingslynncyclingclub.co.uk/event/go-ride-session-12/
LOCATION:Springwood High School\, Queensway\, King's Lynn\, Norfolk\, PE30 4AW
CATEGORIES:Juniors
ATTACH;FMTTYPE=image/jpeg:http://www.kingslynncyclingclub.co.uk/wp-content/uploads/2017/03/go-ride_logo.jpg
GEO:52.7589191;0.4325536
X-APPLE-STRUCTURED-LOCATION;VALUE=URI;X-ADDRESS=Springwood High School Queensway King's Lynn Norfolk PE30 4AW;X-APPLE-RADIUS=500;X-TITLE=Queensway:geo:0.4325536,52.7589191
END:VEVENT
BEGIN:VEVENT
DTSTART;TZID=UTC:20171115T193000
DTEND;TZID=UTC:20171115T210000
DTSTAMP:20260420T011429
CREATED:20171029T130616Z
LAST-MODIFIED:20171029T131528Z
UID:1228-1510774200-1510779600@www.kingslynncyclingclub.co.uk
SUMMARY:KLCC Annual General Meeting
DESCRIPTION:The Wembley Room in Lynnsport
URL:http://www.kingslynncyclingclub.co.uk/event/klcc-annual-general-meeting/
LOCATION:Alive Lynnsport\, Alive lynnsport\, Kings Lynn \, Norfolk\, PE30 2NB\, United Kingdom
CATEGORIES:Administration
GEO:52.7624363;0.4174446
X-APPLE-STRUCTURED-LOCATION;VALUE=URI;X-ADDRESS=Alive Lynnsport Alive lynnsport Kings Lynn  Norfolk PE30 2NB United Kingdom;X-APPLE-RADIUS=500;X-TITLE=Alive lynnsport:geo:0.4174446,52.7624363
END:VEVENT
BEGIN:VEVENT
DTSTART;TZID=UTC:20171114T180000
DTEND;TZID=UTC:20171114T190000
DTSTAMP:20260420T011429
CREATED:20171029T130426Z
LAST-MODIFIED:20171029T130426Z
UID:1226-1510682400-1510686000@www.kingslynncyclingclub.co.uk
SUMMARY:Go Ride Session
DESCRIPTION:
URL:http://www.kingslynncyclingclub.co.uk/event/go-ride-session-11/
LOCATION:Springwood High School\, Queensway\, King's Lynn\, Norfolk\, PE30 4AW
CATEGORIES:Juniors
ATTACH;FMTTYPE=image/jpeg:http://www.kingslynncyclingclub.co.uk/wp-content/uploads/2017/03/go-ride_logo.jpg
GEO:52.7589191;0.4325536
X-APPLE-STRUCTURED-LOCATION;VALUE=URI;X-ADDRESS=Springwood High School Queensway King's Lynn Norfolk PE30 4AW;X-APPLE-RADIUS=500;X-TITLE=Queensway:geo:0.4325536,52.7589191
END:VEVENT
BEGIN:VEVENT
DTSTART;TZID=UTC:20171110T180000
DTEND;TZID=UTC:20171110T200000
DTSTAMP:20260420T011429
CREATED:20171029T125856Z
LAST-MODIFIED:20171029T125856Z
UID:1224-1510336800-1510344000@www.kingslynncyclingclub.co.uk
SUMMARY:Fenland Clarion Race Night
DESCRIPTION:These events are very suitable for novice riders looking to get started in racing\, and held in age groups from under 8 up to under 16\, please note this is youth racing only. Series of three evenings racing in this our Autumn series. \nParking is free in the evenings in the Regional Pool car park next to the track. \nRead more at https://www.britishcycling.org.uk/events/details/165657/Fenland-Clarion-Go-Ride-Cross-Races#MS3BI1wkOtgUtT0b.99
URL:http://www.kingslynncyclingclub.co.uk/event/fenland-clarion-race-night/
LOCATION:Norfolk
CATEGORIES:Juniors
ATTACH;FMTTYPE=image/jpeg:http://www.kingslynncyclingclub.co.uk/wp-content/uploads/2017/03/go-ride_logo.jpg
END:VEVENT
BEGIN:VEVENT
DTSTART;TZID=UTC:20171107T180000
DTEND;TZID=UTC:20171107T190000
DTSTAMP:20260420T011429
CREATED:20171029T124626Z
LAST-MODIFIED:20171029T124626Z
UID:1222-1510077600-1510081200@www.kingslynncyclingclub.co.uk
SUMMARY:Go Ride Session
DESCRIPTION:
URL:http://www.kingslynncyclingclub.co.uk/event/go-ride-session-10/
LOCATION:Alive Lynnsport\, Alive lynnsport\, Kings Lynn \, Norfolk\, PE30 2NB\, United Kingdom
CATEGORIES:Juniors
ATTACH;FMTTYPE=image/jpeg:http://www.kingslynncyclingclub.co.uk/wp-content/uploads/2017/03/go-ride_logo.jpg
GEO:52.7624363;0.4174446
X-APPLE-STRUCTURED-LOCATION;VALUE=URI;X-ADDRESS=Alive Lynnsport Alive lynnsport Kings Lynn  Norfolk PE30 2NB United Kingdom;X-APPLE-RADIUS=500;X-TITLE=Alive lynnsport:geo:0.4174446,52.7624363
END:VEVENT
BEGIN:VEVENT
DTSTART;TZID=UTC:20171031T180000
DTEND;TZID=UTC:20171031T190000
DTSTAMP:20260420T011429
CREATED:20171029T124516Z
LAST-MODIFIED:20171029T124516Z
UID:1220-1509472800-1509476400@www.kingslynncyclingclub.co.uk
SUMMARY:Go Ride Session
DESCRIPTION:
URL:http://www.kingslynncyclingclub.co.uk/event/go-ride-session-9/
LOCATION:Springwood High School\, Queensway\, King's Lynn\, Norfolk\, PE30 4AW
CATEGORIES:Juniors
ATTACH;FMTTYPE=image/jpeg:http://www.kingslynncyclingclub.co.uk/wp-content/uploads/2017/03/go-ride_logo.jpg
GEO:52.7589191;0.4325536
X-APPLE-STRUCTURED-LOCATION;VALUE=URI;X-ADDRESS=Springwood High School Queensway King's Lynn Norfolk PE30 4AW;X-APPLE-RADIUS=500;X-TITLE=Queensway:geo:0.4325536,52.7589191
END:VEVENT
BEGIN:VEVENT
DTSTART;TZID=UTC:20171022T110000
DTEND;TZID=UTC:20171022T130000
DTSTAMP:20260420T011429
CREATED:20170822T074049Z
LAST-MODIFIED:20170822T074049Z
UID:1162-1508670000-1508677200@www.kingslynncyclingclub.co.uk
SUMMARY:HILL CLIMB
DESCRIPTION:A short blast up the B1153 heading north out of Flitcham\, forking left onto the lane towards Anmer\, and finishing at the lung-busting altitude of 84m (275 feet). Then cruise back down the hill for coffee and cake.
URL:http://www.kingslynncyclingclub.co.uk/event/hill-climb/
LOCATION:Flitcham Village Hall\, Church Road\, Flitcham\, Norfolk\, PE31 6BP\, United Kingdom
GEO:52.8098534;0.561335
X-APPLE-STRUCTURED-LOCATION;VALUE=URI;X-ADDRESS=Flitcham Village Hall Church Road Flitcham Norfolk PE31 6BP United Kingdom;X-APPLE-RADIUS=500;X-TITLE=Church Road:geo:0.561335,52.8098534
END:VEVENT
BEGIN:VEVENT
DTSTART;TZID=UTC:20171017T180000
DTEND;TZID=UTC:20171017T190000
DTSTAMP:20260420T011429
CREATED:20170927T060621Z
LAST-MODIFIED:20171014T091232Z
UID:1192-1508263200-1508266800@www.kingslynncyclingclub.co.uk
SUMMARY:Go Ride
DESCRIPTION:
URL:http://www.kingslynncyclingclub.co.uk/event/go-ride-3/
LOCATION:Springwood High School\, Queensway\, King's Lynn\, Norfolk\, PE30 4AW
CATEGORIES:Juniors
ATTACH;FMTTYPE=image/jpeg:http://www.kingslynncyclingclub.co.uk/wp-content/uploads/2017/03/go-ride_logo.jpg
GEO:52.7589191;0.4325536
X-APPLE-STRUCTURED-LOCATION;VALUE=URI;X-ADDRESS=Springwood High School Queensway King's Lynn Norfolk PE30 4AW;X-APPLE-RADIUS=500;X-TITLE=Queensway:geo:0.4325536,52.7589191
END:VEVENT
BEGIN:VEVENT
DTSTART;VALUE=DATE:20171015
DTEND;VALUE=DATE:20171016
DTSTAMP:20260420T011429
CREATED:20170704T061308Z
LAST-MODIFIED:20170725T145133Z
UID:1058-1508025600-1508111999@www.kingslynncyclingclub.co.uk
SUMMARY:King's Lynn Road Race
DESCRIPTION:60 mile race consisting of 4 laps around the villages of Grimston \, Gayton and Gt Massingham \nThis event is part of the Eastern Road Race League\, preference is given to ERRL members. \nSelection is by the highest aggregate points from the current and last season by equal representation\, based on the best rider from each ERRL club in turn then second rider etc. until field is full.  Organisers can accept entries from clubs outside the League in their reserve list only\, unless they do not have a full field of ERRL Members at the closing date. \nThe event will take place on the ­­­Massingham Course\, there will be a maximum of 60 riders on the day. \nEntry on the day will be available up to the maximum allowed on the permit.\nOnline entry:  https://www.britishcycling.org.uk/events/details/154938/Kings-Lynn-Cycling-Club-Road-Race-2017#Lmt68P3aLPgeErVI.99
URL:http://www.kingslynncyclingclub.co.uk/event/kings-lynn-road-race-2/
LOCATION:Grimston Junior School\, Vong Lane\, Pott Row\, King's Lynn\, PE32 1BW
CATEGORIES:Road Race
ATTACH;FMTTYPE=image/jpeg:http://www.kingslynncyclingclub.co.uk/wp-content/uploads/2016/12/DSC02978.jpg
ORGANIZER;CN="Gary Bowles":MAILTO:garybowles55@gmail.com
GEO:52.7684325;0.5323603
X-APPLE-STRUCTURED-LOCATION;VALUE=URI;X-ADDRESS=Grimston Junior School Vong Lane Pott Row King's Lynn PE32 1BW;X-APPLE-RADIUS=500;X-TITLE=Vong Lane\, Pott Row:geo:0.5323603,52.7684325
END:VEVENT
BEGIN:VEVENT
DTSTART;TZID=UTC:20171010T180000
DTEND;TZID=UTC:20171010T190000
DTSTAMP:20260420T011429
CREATED:20170927T060512Z
LAST-MODIFIED:20170927T060512Z
UID:1190-1507658400-1507662000@www.kingslynncyclingclub.co.uk
SUMMARY:Go Ride
DESCRIPTION:
URL:http://www.kingslynncyclingclub.co.uk/event/go-ride-2/
LOCATION:Springwood High School\, Queensway\, King's Lynn\, Norfolk\, PE30 4AW
CATEGORIES:Juniors
ATTACH;FMTTYPE=image/jpeg:http://www.kingslynncyclingclub.co.uk/wp-content/uploads/2017/03/go-ride_logo.jpg
GEO:52.7589191;0.4325536
X-APPLE-STRUCTURED-LOCATION;VALUE=URI;X-ADDRESS=Springwood High School Queensway King's Lynn Norfolk PE30 4AW;X-APPLE-RADIUS=500;X-TITLE=Queensway:geo:0.4325536,52.7589191
END:VEVENT
BEGIN:VEVENT
DTSTART;TZID=UTC:20171003T180000
DTEND;TZID=UTC:20171003T190000
DTSTAMP:20260420T011429
CREATED:20170926T124657Z
LAST-MODIFIED:20170926T124657Z
UID:1188-1507053600-1507057200@www.kingslynncyclingclub.co.uk
SUMMARY:Go Ride
DESCRIPTION:
URL:http://www.kingslynncyclingclub.co.uk/event/go-ride/
LOCATION:Alive Lynnsport\, Alive lynnsport\, Kings Lynn \, Norfolk\, PE30 2NB\, United Kingdom
CATEGORIES:Juniors
ATTACH;FMTTYPE=image/jpeg:http://www.kingslynncyclingclub.co.uk/wp-content/uploads/2017/03/go-ride_logo.jpg
GEO:52.7624363;0.4174446
X-APPLE-STRUCTURED-LOCATION;VALUE=URI;X-ADDRESS=Alive Lynnsport Alive lynnsport Kings Lynn  Norfolk PE30 2NB United Kingdom;X-APPLE-RADIUS=500;X-TITLE=Alive lynnsport:geo:0.4174446,52.7624363
END:VEVENT
BEGIN:VEVENT
DTSTART;TZID=UTC:20170902T120000
DTEND;TZID=UTC:20170902T160000
DTSTAMP:20260420T011429
CREATED:20170706T072621Z
LAST-MODIFIED:20170824T065354Z
UID:1069-1504353600-1504368000@www.kingslynncyclingclub.co.uk
SUMMARY:Fun Day
DESCRIPTION:Featuring 10-mile time trial with first rider off at 2pm. We are collaborating with M-Bikes of Downham Market to raise money for East Anglia’s Children’s Hospices (EACH). M-Bikes are supplying single-speed steel roadsters which you can compete on\, with vouchers on offer as prizes. If you raise more than £250 you even get to keep the bike!! You can of course take part on your regular bike\, or both. There will also be  prizes for the riders who get closest on the roadster to the time they have set on their usual bike\, plus the fastest man\, lady and junior on the roadsters. There are ladies’ and gents’ roadsters available\, and they will be set up for you\, but you do need to book them in advance. Call Martin at M-Bikes on 01366 384362\, or visit the shop at 6 High Street\, Downham Market. \nOther attractions will include cakes\, bike jumble\, tombola & cupbola (for the kids) and KLCC clothing for sale. Please bring your whole family along to enjoy the day. \nSponsored Fun Day Time Trial \nFun Day TT T&Cs \nEACH Sponsorship form Sponsored Fun Day Time Trial Fun Day TT T&Cs \n 
URL:http://www.kingslynncyclingclub.co.uk/event/fun-day/
LOCATION:Tottenhill Village Hall\, 10 Whin Common Rd\, Tottenhill\, PE33 0RS
GEO:52.6725557;0.423256
X-APPLE-STRUCTURED-LOCATION;VALUE=URI;X-ADDRESS=Tottenhill Village Hall 10 Whin Common Rd Tottenhill PE33 0RS;X-APPLE-RADIUS=500;X-TITLE=10 Whin Common Rd:geo:0.423256,52.6725557
END:VEVENT
BEGIN:VEVENT
DTSTART;TZID=UTC:20170816T183000
DTEND;TZID=UTC:20170816T200000
DTSTAMP:20260420T011429
CREATED:20170224T205221Z
LAST-MODIFIED:20170224T205221Z
UID:381-1502908200-1502913600@www.kingslynncyclingclub.co.uk
SUMMARY:10 Mile TT
DESCRIPTION:
URL:http://www.kingslynncyclingclub.co.uk/event/10-mile-tt-16/
LOCATION:Tottenhill Village Hall\, 10 Whin Common Rd\, Tottenhill\, PE33 0RS
CATEGORIES:TT
ORGANIZER;CN="Flo Thacher":MAILTO:flo.thatcher@btinternet.com
GEO:52.6725557;0.423256
X-APPLE-STRUCTURED-LOCATION;VALUE=URI;X-ADDRESS=Tottenhill Village Hall 10 Whin Common Rd Tottenhill PE33 0RS;X-APPLE-RADIUS=500;X-TITLE=10 Whin Common Rd:geo:0.423256,52.6725557
END:VEVENT
BEGIN:VEVENT
DTSTART;TZID=UTC:20170809T183000
DTEND;TZID=UTC:20170809T200000
DTSTAMP:20260420T011429
CREATED:20170224T205113Z
LAST-MODIFIED:20170224T205113Z
UID:378-1502303400-1502308800@www.kingslynncyclingclub.co.uk
SUMMARY:10 Mile TT
DESCRIPTION:
URL:http://www.kingslynncyclingclub.co.uk/event/10-mile-tt-15/
LOCATION:Tottenhill Village Hall\, 10 Whin Common Rd\, Tottenhill\, PE33 0RS
CATEGORIES:TT
ORGANIZER;CN="Flo Thacher":MAILTO:flo.thatcher@btinternet.com
GEO:52.6725557;0.423256
X-APPLE-STRUCTURED-LOCATION;VALUE=URI;X-ADDRESS=Tottenhill Village Hall 10 Whin Common Rd Tottenhill PE33 0RS;X-APPLE-RADIUS=500;X-TITLE=10 Whin Common Rd:geo:0.423256,52.6725557
END:VEVENT
BEGIN:VEVENT
DTSTART;TZID=UTC:20170805T140000
DTEND;TZID=UTC:20170805T170000
DTSTAMP:20260420T011429
CREATED:20170306T181342Z
LAST-MODIFIED:20170306T181443Z
UID:419-1501941600-1501952400@www.kingslynncyclingclub.co.uk
SUMMARY:25 mile TT - Open
DESCRIPTION:https://www.cyclingtimetrials.org.uk/race-details/15692
URL:http://www.kingslynncyclingclub.co.uk/event/25-mile-tt-open/
LOCATION:Fincham\, 72 High St\, Fincham\, PE33 9EJ\, United Kingdom
CATEGORIES:TT
ORGANIZER;CN="Simon Hardy":MAILTO:simon@bleble.com
GEO:52.6291975;0.4917143
X-APPLE-STRUCTURED-LOCATION;VALUE=URI;X-ADDRESS=Fincham 72 High St Fincham PE33 9EJ United Kingdom;X-APPLE-RADIUS=500;X-TITLE=72 High St:geo:0.4917143,52.6291975
END:VEVENT
BEGIN:VEVENT
DTSTART;TZID=UTC:20170802T183000
DTEND;TZID=UTC:20170802T200000
DTSTAMP:20260420T011429
CREATED:20170224T205043Z
LAST-MODIFIED:20170224T205043Z
UID:376-1501698600-1501704000@www.kingslynncyclingclub.co.uk
SUMMARY:10 Mile TT
DESCRIPTION:
URL:http://www.kingslynncyclingclub.co.uk/event/10-mile-tt-14/
LOCATION:Tottenhill Village Hall\, 10 Whin Common Rd\, Tottenhill\, PE33 0RS
CATEGORIES:TT
ORGANIZER;CN="Flo Thacher":MAILTO:flo.thatcher@btinternet.com
GEO:52.6725557;0.423256
X-APPLE-STRUCTURED-LOCATION;VALUE=URI;X-ADDRESS=Tottenhill Village Hall 10 Whin Common Rd Tottenhill PE33 0RS;X-APPLE-RADIUS=500;X-TITLE=10 Whin Common Rd:geo:0.423256,52.6725557
END:VEVENT
BEGIN:VEVENT
DTSTART;TZID=UTC:20170726T183000
DTEND;TZID=UTC:20170726T200000
DTSTAMP:20260420T011429
CREATED:20170224T205013Z
LAST-MODIFIED:20170224T205013Z
UID:374-1501093800-1501099200@www.kingslynncyclingclub.co.uk
SUMMARY:10 Mile TT
DESCRIPTION:
URL:http://www.kingslynncyclingclub.co.uk/event/10-mile-tt-13/
LOCATION:Tottenhill Village Hall\, 10 Whin Common Rd\, Tottenhill\, PE33 0RS
CATEGORIES:TT
ORGANIZER;CN="Flo Thacher":MAILTO:flo.thatcher@btinternet.com
GEO:52.6725557;0.423256
X-APPLE-STRUCTURED-LOCATION;VALUE=URI;X-ADDRESS=Tottenhill Village Hall 10 Whin Common Rd Tottenhill PE33 0RS;X-APPLE-RADIUS=500;X-TITLE=10 Whin Common Rd:geo:0.423256,52.6725557
END:VEVENT
BEGIN:VEVENT
DTSTART;TZID=UTC:20170719T183000
DTEND;TZID=UTC:20170719T200000
DTSTAMP:20260420T011429
CREATED:20170224T204939Z
LAST-MODIFIED:20170224T204939Z
UID:372-1500489000-1500494400@www.kingslynncyclingclub.co.uk
SUMMARY:10 Mile TT
DESCRIPTION:
URL:http://www.kingslynncyclingclub.co.uk/event/10-mile-tt-12/
LOCATION:Tottenhill Village Hall\, 10 Whin Common Rd\, Tottenhill\, PE33 0RS
CATEGORIES:TT
ORGANIZER;CN="Flo Thacher":MAILTO:flo.thatcher@btinternet.com
GEO:52.6725557;0.423256
X-APPLE-STRUCTURED-LOCATION;VALUE=URI;X-ADDRESS=Tottenhill Village Hall 10 Whin Common Rd Tottenhill PE33 0RS;X-APPLE-RADIUS=500;X-TITLE=10 Whin Common Rd:geo:0.423256,52.6725557
END:VEVENT
BEGIN:VEVENT
DTSTART;TZID=UTC:20170718T180000
DTEND;TZID=UTC:20170718T190000
DTSTAMP:20260420T011429
CREATED:20170518T152608Z
LAST-MODIFIED:20170610T202005Z
UID:696-1500400800-1500404400@www.kingslynncyclingclub.co.uk
SUMMARY:Go Ride Session
DESCRIPTION:
URL:http://www.kingslynncyclingclub.co.uk/event/go-ride-session-6/
LOCATION:Springwood High School\, Queensway\, King's Lynn\, Norfolk\, PE30 4AW
CATEGORIES:Juniors
ATTACH;FMTTYPE=image/jpeg:http://www.kingslynncyclingclub.co.uk/wp-content/uploads/2017/03/go-ride_logo.jpg
GEO:52.7589191;0.4325536
X-APPLE-STRUCTURED-LOCATION;VALUE=URI;X-ADDRESS=Springwood High School Queensway King's Lynn Norfolk PE30 4AW;X-APPLE-RADIUS=500;X-TITLE=Queensway:geo:0.4325536,52.7589191
END:VEVENT
BEGIN:VEVENT
DTSTART;TZID=UTC:20170716T100000
DTEND;TZID=UTC:20170716T160000
DTSTAMP:20260420T011429
CREATED:20170523T112725Z
LAST-MODIFIED:20170610T201916Z
UID:714-1500199200-1500220800@www.kingslynncyclingclub.co.uk
SUMMARY:Go Ride celebrating 25 Anniversary of Alive Lynnsport
DESCRIPTION:
URL:http://www.kingslynncyclingclub.co.uk/event/go-ride-celebrating-25-anniversary-of-alive-lynnsport/
LOCATION:Alive Lynnsport\, Alive lynnsport\, Kings Lynn \, Norfolk\, PE30 2NB\, United Kingdom
CATEGORIES:Juniors
ATTACH;FMTTYPE=image/jpeg:http://www.kingslynncyclingclub.co.uk/wp-content/uploads/2017/03/go-ride_logo.jpg
GEO:52.7624363;0.4174446
X-APPLE-STRUCTURED-LOCATION;VALUE=URI;X-ADDRESS=Alive Lynnsport Alive lynnsport Kings Lynn  Norfolk PE30 2NB United Kingdom;X-APPLE-RADIUS=500;X-TITLE=Alive lynnsport:geo:0.4174446,52.7624363
END:VEVENT
BEGIN:VEVENT
DTSTART;TZID=UTC:20170712T184500
DTEND;TZID=UTC:20170712T200000
DTSTAMP:20260420T011429
CREATED:20170224T204903Z
LAST-MODIFIED:20170224T204903Z
UID:370-1499885100-1499889600@www.kingslynncyclingclub.co.uk
SUMMARY:10 Mile TT
DESCRIPTION:
URL:http://www.kingslynncyclingclub.co.uk/event/10-mile-tt-11/
LOCATION:Tottenhill Village Hall\, 10 Whin Common Rd\, Tottenhill\, PE33 0RS
CATEGORIES:TT
ORGANIZER;CN="Flo Thacher":MAILTO:flo.thatcher@btinternet.com
GEO:52.6725557;0.423256
X-APPLE-STRUCTURED-LOCATION;VALUE=URI;X-ADDRESS=Tottenhill Village Hall 10 Whin Common Rd Tottenhill PE33 0RS;X-APPLE-RADIUS=500;X-TITLE=10 Whin Common Rd:geo:0.423256,52.6725557
END:VEVENT
BEGIN:VEVENT
DTSTART;TZID=UTC:20170711T180000
DTEND;TZID=UTC:20170711T190000
DTSTAMP:20260420T011429
CREATED:20170518T152527Z
LAST-MODIFIED:20170610T201943Z
UID:694-1499796000-1499799600@www.kingslynncyclingclub.co.uk
SUMMARY:Go Ride Session
DESCRIPTION:
URL:http://www.kingslynncyclingclub.co.uk/event/go-ride-session-5/
LOCATION:Springwood High School\, Queensway\, King's Lynn\, Norfolk\, PE30 4AW
CATEGORIES:Juniors
ATTACH;FMTTYPE=image/jpeg:http://www.kingslynncyclingclub.co.uk/wp-content/uploads/2017/03/go-ride_logo.jpg
GEO:52.7589191;0.4325536
X-APPLE-STRUCTURED-LOCATION;VALUE=URI;X-ADDRESS=Springwood High School Queensway King's Lynn Norfolk PE30 4AW;X-APPLE-RADIUS=500;X-TITLE=Queensway:geo:0.4325536,52.7589191
END:VEVENT
BEGIN:VEVENT
DTSTART;TZID=UTC:20170708T100000
DTEND;TZID=UTC:20170708T160000
DTSTAMP:20260420T011429
CREATED:20170523T112512Z
LAST-MODIFIED:20170523T112512Z
UID:712-1499508000-1499529600@www.kingslynncyclingclub.co.uk
SUMMARY:Go Ride Street Collection for the A-T Society
DESCRIPTION:
URL:http://www.kingslynncyclingclub.co.uk/event/go-ride-street-collection-for-the-a-t-society/
LOCATION:Vancuver Centre\, 46 New Conduct Street\, King's Lynn\, PE301DT\, United Kingdom
CATEGORIES:Juniors
ATTACH;FMTTYPE=image/jpeg:http://www.kingslynncyclingclub.co.uk/wp-content/uploads/2017/03/go-ride_logo.jpg
GEO:52.7532755;0.3976053
X-APPLE-STRUCTURED-LOCATION;VALUE=URI;X-ADDRESS=Vancuver Centre 46 New Conduct Street King's Lynn PE301DT United Kingdom;X-APPLE-RADIUS=500;X-TITLE=46 New Conduct Street:geo:0.3976053,52.7532755
END:VEVENT
BEGIN:VEVENT
DTSTART;TZID=UTC:20170705T184500
DTEND;TZID=UTC:20170705T200000
DTSTAMP:20260420T011429
CREATED:20170224T204711Z
LAST-MODIFIED:20170224T204711Z
UID:367-1499280300-1499284800@www.kingslynncyclingclub.co.uk
SUMMARY:10 Mile TT
DESCRIPTION:
URL:http://www.kingslynncyclingclub.co.uk/event/10-mile-tt-10/
LOCATION:Tottenhill Village Hall\, 10 Whin Common Rd\, Tottenhill\, PE33 0RS
CATEGORIES:TT
ORGANIZER;CN="Flo Thacher":MAILTO:flo.thatcher@btinternet.com
GEO:52.6725557;0.423256
X-APPLE-STRUCTURED-LOCATION;VALUE=URI;X-ADDRESS=Tottenhill Village Hall 10 Whin Common Rd Tottenhill PE33 0RS;X-APPLE-RADIUS=500;X-TITLE=10 Whin Common Rd:geo:0.423256,52.6725557
END:VEVENT
BEGIN:VEVENT
DTSTART;TZID=UTC:20170704T180000
DTEND;TZID=UTC:20170704T190000
DTSTAMP:20260420T011429
CREATED:20170518T152803Z
LAST-MODIFIED:20170610T202329Z
UID:700-1499191200-1499194800@www.kingslynncyclingclub.co.uk
SUMMARY:Go Ride Session
DESCRIPTION:
URL:http://www.kingslynncyclingclub.co.uk/event/go-ride-session-8/
LOCATION:Alive Lynnsport\, Alive lynnsport\, Kings Lynn \, Norfolk\, PE30 2NB\, United Kingdom
CATEGORIES:Juniors
ATTACH;FMTTYPE=image/jpeg:http://www.kingslynncyclingclub.co.uk/wp-content/uploads/2017/03/go-ride_logo.jpg
GEO:52.7624363;0.4174446
X-APPLE-STRUCTURED-LOCATION;VALUE=URI;X-ADDRESS=Alive Lynnsport Alive lynnsport Kings Lynn  Norfolk PE30 2NB United Kingdom;X-APPLE-RADIUS=500;X-TITLE=Alive lynnsport:geo:0.4174446,52.7624363
END:VEVENT
BEGIN:VEVENT
DTSTART;TZID=UTC:20170628T184500
DTEND;TZID=UTC:20170628T200000
DTSTAMP:20260420T011429
CREATED:20170224T204628Z
LAST-MODIFIED:20170224T204628Z
UID:365-1498675500-1498680000@www.kingslynncyclingclub.co.uk
SUMMARY:10 Mile TT
DESCRIPTION:
URL:http://www.kingslynncyclingclub.co.uk/event/10-mile-tt-9/
LOCATION:Tottenhill Village Hall\, 10 Whin Common Rd\, Tottenhill\, PE33 0RS
CATEGORIES:TT
ORGANIZER;CN="Flo Thacher":MAILTO:flo.thatcher@btinternet.com
GEO:52.6725557;0.423256
X-APPLE-STRUCTURED-LOCATION;VALUE=URI;X-ADDRESS=Tottenhill Village Hall 10 Whin Common Rd Tottenhill PE33 0RS;X-APPLE-RADIUS=500;X-TITLE=10 Whin Common Rd:geo:0.423256,52.6725557
END:VEVENT
BEGIN:VEVENT
DTSTART;TZID=UTC:20170627T180000
DTEND;TZID=UTC:20170627T190000
DTSTAMP:20260420T011429
CREATED:20170518T152455Z
LAST-MODIFIED:20170610T202130Z
UID:692-1498586400-1498590000@www.kingslynncyclingclub.co.uk
SUMMARY:Go Ride Session
DESCRIPTION:
URL:http://www.kingslynncyclingclub.co.uk/event/go-ride-session-4/
LOCATION:Springwood High School\, Queensway\, King's Lynn\, Norfolk\, PE30 4AW
CATEGORIES:Juniors
ATTACH;FMTTYPE=image/jpeg:http://www.kingslynncyclingclub.co.uk/wp-content/uploads/2017/03/go-ride_logo.jpg
GEO:52.7589191;0.4325536
X-APPLE-STRUCTURED-LOCATION;VALUE=URI;X-ADDRESS=Springwood High School Queensway King's Lynn Norfolk PE30 4AW;X-APPLE-RADIUS=500;X-TITLE=Queensway:geo:0.4325536,52.7589191
END:VEVENT
BEGIN:VEVENT
DTSTART;TZID=UTC:20170621T080000
DTEND;TZID=UTC:20170621T170000
DTSTAMP:20260420T011429
CREATED:20170224T204536Z
LAST-MODIFIED:20170224T204536Z
UID:363-1498032000-1498064400@www.kingslynncyclingclub.co.uk
SUMMARY:25 Mile TT
DESCRIPTION:
URL:http://www.kingslynncyclingclub.co.uk/event/25-mile-tt-3/
LOCATION:Tottenhill Village Hall\, 10 Whin Common Rd\, Tottenhill\, PE33 0RS
CATEGORIES:TT
ORGANIZER;CN="Flo Thacher":MAILTO:flo.thatcher@btinternet.com
GEO:52.6725557;0.423256
X-APPLE-STRUCTURED-LOCATION;VALUE=URI;X-ADDRESS=Tottenhill Village Hall 10 Whin Common Rd Tottenhill PE33 0RS;X-APPLE-RADIUS=500;X-TITLE=10 Whin Common Rd:geo:0.423256,52.6725557
END:VEVENT
BEGIN:VEVENT
DTSTART;TZID=UTC:20170620T180000
DTEND;TZID=UTC:20170620T190000
DTSTAMP:20260420T011429
CREATED:20170518T152353Z
LAST-MODIFIED:20170610T202058Z
UID:690-1497981600-1497985200@www.kingslynncyclingclub.co.uk
SUMMARY:Go Ride Session
DESCRIPTION:
URL:http://www.kingslynncyclingclub.co.uk/event/go-ride-session-3/
LOCATION:Springwood High School\, Queensway\, King's Lynn\, Norfolk\, PE30 4AW
CATEGORIES:Juniors
ATTACH;FMTTYPE=image/jpeg:http://www.kingslynncyclingclub.co.uk/wp-content/uploads/2017/03/go-ride_logo.jpg
GEO:52.7589191;0.4325536
X-APPLE-STRUCTURED-LOCATION;VALUE=URI;X-ADDRESS=Springwood High School Queensway King's Lynn Norfolk PE30 4AW;X-APPLE-RADIUS=500;X-TITLE=Queensway:geo:0.4325536,52.7589191
END:VEVENT
BEGIN:VEVENT
DTSTART;TZID=UTC:20170617T100000
DTEND;TZID=UTC:20170617T160000
DTSTAMP:20260420T011429
CREATED:20170524T061020Z
LAST-MODIFIED:20170524T061020Z
UID:716-1497693600-1497715200@www.kingslynncyclingclub.co.uk
SUMMARY:Go Ride at Watlington Village Fete
DESCRIPTION:
URL:http://www.kingslynncyclingclub.co.uk/event/go-ride-at-watlington-village-fete/
LOCATION:Watlington Village Hall\,  PE33 0HE\, United Kingdom
CATEGORIES:Juniors
ATTACH;FMTTYPE=image/jpeg:http://www.kingslynncyclingclub.co.uk/wp-content/uploads/2017/03/go-ride_logo.jpg
ORGANIZER;CN="Heather Rugg":MAILTO:ruggshack@gmail.com
END:VEVENT
END:VCALENDAR